BEGIN:VCALENDAR
PRODID:-//github.com/rianjs/ical.net//NONSGML ical.net 4.0//EN
VERSION:2.0
BEGIN:VTIMEZONE
TZID:Eastern Standard Time
X-LIC-LOCATION:America/New_York
BEGIN:STANDARD
DTSTART:20241103T020000
RRULE:FREQ=YEARLY;BYDAY=1SU;BYMONTH=11
TZNAME:EST
TZOFFSETFROM:-0400
TZOFFSETTO:-0500
END:STANDARD
BEGIN:DAYLIGHT
DTSTART:20250309T020000
RRULE:FREQ=YEARLY;BYDAY=2SU;BYMONTH=3
TZNAME:EDT
TZOFFSETFROM:-0500
TZOFFSETTO:-0400
END:DAYLIGHT
END:VTIMEZONE
BEGIN:VEVENT
DTEND;TZID=Eastern Standard Time;VALUE=DATE:20260917
DTSTAMP:20260419T232420Z
DTSTART;TZID=Eastern Standard Time;VALUE=DATE:20260913
LOCATION:Marvel Stadium\, Melbourne\, Australia 740 Bourke Street Dockland
 s\, Victoria 3008 Australia
ORGANIZER;CN=TEFMA Staff;SENT-BY="mailto:events@tefma.com":
SEQUENCE:0
SUMMARY:APPA: TEFMA 2026 Conference
UID:b097225c-5f24-4d9e-b0a3-4bede2e1bf50
END:VEVENT
END:VCALENDAR
