BEGIN:VCALENDAR
PRODID:-//github.com/rianjs/ical.net//NONSGML ical.net 4.0//EN
VERSION:2.0
BEGIN:VTIMEZONE
TZID:Eastern Standard Time
X-LIC-LOCATION:America/New_York
BEGIN:STANDARD
DTSTART:20241103T020000
RRULE:FREQ=YEARLY;BYDAY=1SU;BYMONTH=11
TZNAME:EST
TZOFFSETFROM:-0400
TZOFFSETTO:-0500
END:STANDARD
BEGIN:DAYLIGHT
DTSTART:20250309T020000
RRULE:FREQ=YEARLY;BYDAY=2SU;BYMONTH=3
TZNAME:EDT
TZOFFSETFROM:-0500
TZOFFSETTO:-0400
END:DAYLIGHT
END:VTIMEZONE
BEGIN:VEVENT
DESCRIPTION:Hands-on AI experience - 2 hours/week for 4 weeks
DTEND;TZID=Eastern Standard Time:20260421T160000
DTSTAMP:20260420T035401Z
DTSTART;TZID=Eastern Standard Time:20260421T140000
LOCATION:Join Us Virtually
ORGANIZER;CN=APPA Professional Development;SENT-BY="mailto:professionaldev
 elopment@appa.org":
SEQUENCE:0
SUMMARY:APPA: AI for Facilities: 101 (four week program)
UID:260f34bb-e0a7-45d8-9608-7e5d982e7c48
END:VEVENT
END:VCALENDAR
