BEGIN:VCALENDAR
PRODID:-//github.com/rianjs/ical.net//NONSGML ical.net 4.0//EN
VERSION:2.0
BEGIN:VTIMEZONE
TZID:Eastern Standard Time
X-LIC-LOCATION:America/New_York
BEGIN:STANDARD
DTSTART:20241103T020000
RRULE:FREQ=YEARLY;BYDAY=1SU;BYMONTH=11
TZNAME:EST
TZOFFSETFROM:-0400
TZOFFSETTO:-0500
END:STANDARD
BEGIN:DAYLIGHT
DTSTART:20250309T020000
RRULE:FREQ=YEARLY;BYDAY=2SU;BYMONTH=3
TZNAME:EDT
TZOFFSETFROM:-0500
TZOFFSETTO:-0400
END:DAYLIGHT
END:VTIMEZONE
BEGIN:VEVENT
DESCRIPTION:Hands-on AI experience - 2 hours/week for 4 weeks
DTEND;TZID=Eastern Standard Time:20260428T160000
DTSTAMP:20260420T034223Z
DTSTART;TZID=Eastern Standard Time:20260428T140000
LOCATION:Join Us Virtually
ORGANIZER;CN=APPA Professional Development;SENT-BY="mailto:professionaldev
 elopment@appa.org":
SEQUENCE:0
SUMMARY:APPA: AI for Facilities: 101 (sessions 2 thru 4)
UID:6861d9e1-0b0c-4db6-a0d8-b6bc493ef545
END:VEVENT
END:VCALENDAR
