BEGIN:VCALENDAR
PRODID:-//github.com/rianjs/ical.net//NONSGML ical.net 4.0//EN
VERSION:2.0
BEGIN:VTIMEZONE
TZID:Eastern Standard Time
X-LIC-LOCATION:America/New_York
BEGIN:STANDARD
DTSTART:20241103T020000
RRULE:FREQ=YEARLY;BYDAY=1SU;BYMONTH=11
TZNAME:EST
TZOFFSETFROM:-0400
TZOFFSETTO:-0500
END:STANDARD
BEGIN:DAYLIGHT
DTSTART:20250309T020000
RRULE:FREQ=YEARLY;BYDAY=2SU;BYMONTH=3
TZNAME:EDT
TZOFFSETFROM:-0500
TZOFFSETTO:-0400
END:DAYLIGHT
END:VTIMEZONE
BEGIN:VEVENT
DTEND;TZID=Eastern Standard Time;VALUE=DATE:20260501
DTSTAMP:20260423T211544Z
DTSTART;TZID=Eastern Standard Time;VALUE=DATE:20260428
LOCATION:University of Wisconsin\nMadison\, WI
ORGANIZER;CN=Kayla McConville;SENT-BY="mailto:kayla.mcconville@wisc.edu":
SEQUENCE:0
SUMMARY:APPA: Invest in Success: University of Wisconsin - Madison (Employ
 ees Only)
UID:9b63dc8b-dffe-4d15-89ad-261525552b7b
END:VEVENT
END:VCALENDAR
