BEGIN:VCALENDAR
PRODID:-//github.com/rianjs/ical.net//NONSGML ical.net 4.0//EN
VERSION:2.0
BEGIN:VTIMEZONE
TZID:Eastern Standard Time
X-LIC-LOCATION:America/New_York
BEGIN:STANDARD
DTSTART:20241103T020000
RRULE:FREQ=YEARLY;BYDAY=1SU;BYMONTH=11
TZNAME:EST
TZOFFSETFROM:-0400
TZOFFSETTO:-0500
END:STANDARD
BEGIN:DAYLIGHT
DTSTART:20250309T020000
RRULE:FREQ=YEARLY;BYDAY=2SU;BYMONTH=3
TZNAME:EDT
TZOFFSETFROM:-0500
TZOFFSETTO:-0400
END:DAYLIGHT
END:VTIMEZONE
BEGIN:VEVENT
DTEND;TZID=Eastern Standard Time;VALUE=DATE:20260522
DTSTAMP:20260425T032910Z
DTSTART;TZID=Eastern Standard Time;VALUE=DATE:20260518
LOCATION:University of Southern Mississippi\nHattiesburg\, MS
ORGANIZER;CN=Michael Scully;SENT-BY="mailto:michael.scully@usm.edu":
SEQUENCE:0
SUMMARY:APPA: Supervisor's Toolkit: University of Southern Mississippi (Em
 ployees Only)
UID:4c1789a0-e9a8-4947-8217-a138b9a65350
END:VEVENT
END:VCALENDAR
